BEGIN:VCALENDAR
VERSION:2.0
PRODID:-//wp-events-plugin.com//7.2.3.1//EN
TZID:Europe/Paris
X-WR-TIMEZONE:Europe/Paris
BEGIN:VEVENT
UID:341@lasauceauxjeux.com
DTSTART;TZID=Europe/Paris:20260517T140000
DTEND;TZID=Europe/Paris:20260517T190000
DTSTAMP:20260421T111930Z
URL:https://www.lasauceauxjeux.com/events/monster-game-battlestar-galactic
 a/
SUMMARY:Monster Game : Battlestar Galactica
DESCRIPTION:\n\nPublic : Tout public\n\n\nDescription :\nA bord du Battlest
 ar Galactica\, vous devez sauver ce qui reste de l'humanité de la menace 
 Cylon et trouver un endroit sûr. Il vous faudra coopérer pour résoudre 
 les crises\, faire des choix difficiles et repousser les attaques de la fl
 otte Cylon. A moins bien sûr que vous ne soyez un Cylon infiltré...\n\nV
 ous pensez être humain\, mais en êtes-vous vraiment sûr ?\n\nFonctionne
 ment / Mot de l'animateur :\nPas de connaissance de la série nécessaire.
 \n\nAnimateur : Gael\n\nMaison d'édition : FFG / Edge\n\nAmbiance : Survi
 e\, suspicion\, science-fiction
ATTACH;FMTTYPE=image/jpeg:https://www.lasauceauxjeux.com/wpsaj/wp-content/
 uploads/battlestar-galactica-vf.jpg
CATEGORIES:Monster Game
LOCATION:Association ITHAQUE\, 12 rue Kuhn\, Strasbourg\, 67000\, France
X-APPLE-STRUCTURED-LOCATION;VALUE=URI;X-ADDRESS=12 rue Kuhn\, Strasbourg\, 
 67000\, France;X-APPLE-RADIUS=100;X-TITLE=Association ITHAQUE:geo:0,0
END:VEVENT
BEGIN:VTIMEZONE
TZID:Europe/Paris
X-LIC-LOCATION:Europe/Paris
BEGIN:DAYLIGHT
DTSTART:20260329T030000
TZOFFSETFROM:+0100
TZOFFSETTO:+0200
TZNAME:CEST
END:DAYLIGHT
END:VTIMEZONE
END:VCALENDAR