BEGIN:VCALENDAR
VERSION:2.0
PRODID:-//wp-events-plugin.com//7.2.3.1//EN
TZID:Europe/Paris
X-WR-TIMEZONE:Europe/Paris
BEGIN:VEVENT
UID:340@lasauceauxjeux.com
DTSTART;TZID=Europe/Paris:20260503T140000
DTEND;TZID=Europe/Paris:20260503T190000
DTSTAMP:20260421T111012Z
URL:https://www.lasauceauxjeux.com/events/monster-game-black-rose-wars-ren
 aissance/
SUMMARY:Monster Game : Black Rose Wars Renaissance
DESCRIPTION:\n\nPublic : Averti / Expert\n\n\nDescription :\nLa Loge est d
 étruite\, l'Ordre des Mages dirigé par le Grand Magister n'est plus qu'u
 n vague souvenir. Les Magisters des différentes Écoles sont morts ou ont
  choisi l'exil.\n\nUne génération s'est écoulée depuis l'arrivée de L
 ucifer. Sa défaite est un événement dont peu de gens se souviennent.\nL
 es mortels ordinaires font remonter les événements d'une explosion massi
 ve qui a eu lieu lors d'une froide nuit d'hiver\, probablement causée par
  une distillerie clandestine.\nIls ne savent pas grand-chose. Seuls les Ma
 ges impliqués\, les rares survivants\, savent ce qui s'est réellement pa
 ssé à l'intérieur du palais autrefois magnifique.\n\nMais la Rose Noire
  vit toujours.\nUne voix faible\, presque un murmure\, résonne dans l'air
  comme un appel lointain. Un pouvoir magique pulse toujours des ruines...\
 n\nBlack Rose Wars Renaissance est un jeu de stratégie pour 1 à 4 joueur
 s\, combinant construction de deck\, exploration et combat\, se déroulant
  dans l'univers trépidant et fantastique de Nova Aetas Chronicles\, en It
 alie. Chaque joueur incarne l'un des puissants mages de l'Ordre de la Rose
  Noire\, qui s'efforce de devenir le nouveau Grand Magister et d'acquérir
  le puissant pouvoir de l'Artefact de la Rose Noire et de la Magie Oublié
 e.\n\nChaque mage dispose de six écoles de magie\, chacune avec sa propre
  stratégie pour vaincre ses adversaires et augmenter sa puissance. Les ma
 ges s'affrontent dans une arène modulaire de tuiles de salle hexagonales.
  Ils invoquent de puissantes créatures\, lancent des sorts destructeurs o
 u tissent de sombres tromperies avec leurs enchantements.\n\nFonctionnemen
 t / Mot de l'animateur :\nBlack Rose Wars (BRW) est un jeu atypique qui m
 êle des mécaniques connues (deckbluiding\, système de majorité\, progr
 ammation\, combat)\, avec des choses plus originales.\n\nD'une part\, c'es
 t un jeu qui repose sur le système Joueur VS Joueur VS Jeu (on peut le qu
 alifier parfois de Coopétitif). La Rose noire incarne une entité dans le
  jeu\, mais n'est pas pour autant représentée physiquement en jeu (dans 
 sa version de base). Elle va mettre des bâtons dans les roues des joueurs
 \, et pas qu'un peu\, obligeant parfois a revoir sa stratégie pour l'emp
 êcher de prendre l'ascendant sur le groupe. Car soit il y a un gagnant\, 
 soit tout le monde perd.\n\nD'autre part le Deckbluiding va se mélanger a
  un système de programmation d'action\, faisant de BRW un jeu dont le Cha
 os est le maitre mot. Retournement de situation\, piège\, mauvais séquen
 çage\, opportunisme\, réaction... Impossible de savoir ce que chaque jou
 eur cache dans son jeu\, et il faut être prêt a accepter de se faire tap
 er dessus\, et parfois méchamment ! Le tout servant un système de majori
 té dans les différents lieux\, mais aussi sur les autres joueurs (j'avai
 s dit que c'était méchant).\n\nBien que le jeu deviennent rapidement flu
 ide car les règles de base sont relativement simples pour le genre\, la p
 artie Deckbuilding est excessivement profonde et dense :\n- Il y a 6 écol
 es de magie tournant chacune autour d'une mécanique centrale.\n- Chaque 
 école possède 2 gammes de 6 sorts s'articulant autour de deux principes 
 différents.\n- Chaque sort peut être joué pour sa face claire\, ou pour
  sa face sombre.\n\nÇa fait beaucoup\, et malgré que le jeu restreigne l
 es possibilités lors de la phase de deckbuilding\, il faut être prêt à
  avoir bcp d'informations pour choisir ses cartes et envisager sa programm
 ation.\n\nJe recommande BRW tant aux amateurs de deckbuilding (peu importe
  le niveau si on est prêt à s'investir car il vaut vraiment le coup)\, q
 u'aux curieux d'expérience atypique autour d'un jeu d'affrontement !\n\nA
 nimateur : Pierre\n\nMaison d'édition : Ludus Magnus\n\nAmbiance : Sorcel
 lerie
ATTACH;FMTTYPE=image/jpeg:https://www.lasauceauxjeux.com/wpsaj/wp-content/
 uploads/fb2e3946-5c37-41b2-9398-be19fbf9715d.jpg.webp
CATEGORIES:Monster Game
LOCATION:Association ITHAQUE\, 12 rue Kuhn\, Strasbourg\, 67000\, France
X-APPLE-STRUCTURED-LOCATION;VALUE=URI;X-ADDRESS=12 rue Kuhn\, Strasbourg\, 
 67000\, France;X-APPLE-RADIUS=100;X-TITLE=Association ITHAQUE:geo:0,0
END:VEVENT
BEGIN:VTIMEZONE
TZID:Europe/Paris
X-LIC-LOCATION:Europe/Paris
BEGIN:DAYLIGHT
DTSTART:20260329T030000
TZOFFSETFROM:+0100
TZOFFSETTO:+0200
TZNAME:CEST
END:DAYLIGHT
END:VTIMEZONE
END:VCALENDAR